BEGIN:VCALENDAR
VERSION:2.0
PRODID:-//eventon.com NONSGML v1.0//EN
CALSCALE:GREGORIAN
METHOD:PUBLISH
BEGIN:VEVENT
UID:69ed060d5b9e8
DTSTAMP:20260425T182101Z
DTSTART:20261002T110000Z
DTEND:20261002T130000Z
LOCATION:La Croix Gaudin\,  44360 St Etienne de Montluc La Croix Gaudin\,  44360 St Etienne de Montluc
SUMMARY:Atelier : Je suis en micro\,  est-ce que je suis concerné par la TVA?
DESCRIPTION:Vous êtes micro-entrepreneur\,  êtes-vous concerné par la TV
 A ? Vous dépassez bientôt le seuil de chiffre d’affaires et vous vous i
 nterrogez sur la suite ? Le régime micro est un excellent tremplin\,  mais
  à mesure que l’activité se développe\,  il peut devenir limitant. Ent
 re fiscalité\,  charges sociales\,  obligations comptables et[..]\nhttps:/
 /www.lincubacteur.fr/events/atelier-je-suis-en-micro-est-ce-que-je-suis-con
 cerne-par-la-tva-2/
URL:https://www.lincubacteur.fr/events/atelier-je-suis-en-micro-est-ce-que-je-suis-concerne-par-la-tva-2/
END:VEVENT
END:VCALENDAR