BEGIN:VCALENDAR
VERSION:2.0
PRODID:-//eventon.com NONSGML v1.0//EN
CALSCALE:GREGORIAN
METHOD:PUBLISH
BEGIN:VEVENT
UID:69ed0605050cb
DTSTAMP:20260425T182053Z
DTSTART:20261009T110000Z
DTEND:20261009T130000Z
LOCATION:La Croix Gaudin\,  44360 St Etienne de Montluc La Croix Gaudin\,  44360 St Etienne de Montluc
SUMMARY:Atelier : Passer de la micro-entreprise au rÃ©el !
DESCRIPTION:Vous Ãªtes micro entrepreneur\,  vous dÃ©passez bientÃ´t le seu
 il de chiffre dâ€™affaires et vous vous interrogez sur la suite ? Le rÃ©gim
 e micro est un excellent tremplin\,  mais Ã  mesure que lâ€™activitÃ© se dÃ
 ©veloppe\,  il peut devenir limitant. Entre fiscalitÃ©\,  charges sociales\
 ,  obligations comptables et Ã©volutions administratives\,  il est parfois[
 ..]\nhttps://www.lincubacteur.fr/events/atelier-passer-de-la-micro-entrepri
 se-au-reel-2/
URL:https://www.lincubacteur.fr/events/atelier-passer-de-la-micro-entreprise-au-reel-2/
END:VEVENT
END:VCALENDAR