BEGIN:VCALENDAR
VERSION:2.0
PRODID:-//eventon.com NONSGML v1.0//EN
CALSCALE:GREGORIAN
METHOD:PUBLISH
BEGIN:VEVENT
UID:69ed19c03474e
DTSTAMP:20260425T194504Z
DTSTART:20261119T173000Z
DTEND:20261119T190000Z
LOCATION:La Croix Gaudin\,  44360 St Etienne de Montluc La Croix Gaudin\,  44360 St Etienne de Montluc
SUMMARY:Les jeudis de la crÃ©ation d'entreprise ...
DESCRIPTION:RÃ©union pour tous ceux qui souhaitent connaÃ®tre les grandes Ã
 ©tapes de la crÃ©ation d&rsquo;entreprise et souhaitent Ãªtre accompagnÃ©s.
  DÃ©couvrez les Ã©tapes incontournables de la crÃ©ation d&rsquo;une entrepr
 ise. Cette rÃ©union d&rsquo;information s&rsquo;adresse Ã  toute personne q
 ui a un projet de crÃ©ation d&rsquo;entreprise\,  qui ne sait pas par oÃ¹ c
 ommencer et souhaite[..]\nhttps://www.lincubacteur.fr/events/les-jeudis-de-
 la-creation-dentreprise-5/
URL:https://www.lincubacteur.fr/events/les-jeudis-de-la-creation-dentreprise-5/
END:VEVENT
END:VCALENDAR