BEGIN:VCALENDAR
VERSION:2.0
PRODID:-//eventon.com NONSGML v1.0//EN
CALSCALE:GREGORIAN
METHOD:PUBLISH
BEGIN:VEVENT
UID:69ed2fdb5e172
DTSTAMP:20260425T211923Z
DTSTART:20260408T090000Z
DTEND:20260408T103000Z
LOCATION:Le Quaiworking 1 Boulevard branly 44260 Savenay
SUMMARY:Café Partagé "Mes rituels qui font du bien" <span style="color: #ed8b00; font-weight: bold; font-size: 20px;">#Quaiworking</span>
DESCRIPTION:Un moment de partage dédié aux petits gestes et habitudes qui
  apportent du bien‑être au quotidien. Vous êtes invité·e à présente
 r vos propres rituels\,  à écouter ceux des autres et à repartir avec de
  nouvelles idées pour nourrir votre équilibre personnel.\nhttps://www.lin
 cubacteur.fr/events/cafe-partage-mes-rituels-qui-font-du-bien-preciser-que-
 cest-au-quaiworking/
URL:https://www.lincubacteur.fr/events/cafe-partage-mes-rituels-qui-font-du-bien-preciser-que-cest-au-quaiworking/
END:VEVENT
END:VCALENDAR