BEGIN:VCALENDAR
VERSION:2.0
PRODID:-//eventon.com NONSGML v1.0//EN
CALSCALE:GREGORIAN
METHOD:PUBLISH
BEGIN:VEVENT
UID:69ed2c880d6ec
DTSTAMP:20260425T210512Z
DTSTART:20260410T083000Z
DTEND:20260410T100000Z
LOCATION:La Croix Gaudin\,  44360 St Etienne de Montluc La Croix Gaudin\,  44360 St Etienne de Montluc
SUMMARY:Caf'Eco: Comprendre la facturation électronique
DESCRIPTION:La facturation électronique devient progressivement une obliga
 tion pour les entreprises françaises. Cette réforme\,  qui s’inscrit da
 ns une volonté de modernisation et de simplification des échanges\,  va t
 ransformer les pratiques administratives et comptables de nombreuses struct
 ures\,  quelle que soit leur taille. Mais concrètement\,  qu’est-ce que 
 cela implique pour votre entreprise ?[..]\nhttps://www.lincubacteur.fr/even
 ts/cafeco-comprendre-la-facturation-electronique/
URL:https://www.lincubacteur.fr/events/cafeco-comprendre-la-facturation-electronique/
END:VEVENT
END:VCALENDAR