BEGIN:VCALENDAR
VERSION:2.0
PRODID:-//eventon.com NONSGML v1.0//EN
CALSCALE:GREGORIAN
METHOD:PUBLISH
BEGIN:VEVENT
UID:69ed05cc3a299
DTSTAMP:20260425T181956Z
DTSTART:20260513T090000Z
DTEND:20260513T103000Z
LOCATION:Le Quaiworking 1 Boulevard branly 44260 Savenay
SUMMARY:Café Partagé "Un objet totem: raconte-nous son histoire" <span style="color: #ed8b00; font-weight: bold; font-size: 20px;">#Quaiworking</span>
DESCRIPTION:Un moment convivial où chaque participant·e vient avec un obj
 et symbolique et en partage l’histoire\,  la valeur ou l’émotion qui l
 ’accompagne. Une manière originale de mieux se connaître ou de parler\,
   d&rsquo;une manière différente\,  de son activité.\nhttps://www.lincub
 acteur.fr/events/cafe-partage-un-objet-totem-raconte-nous-son-histoire-prec
 iser-que-cest-au-quaiworking/
URL:https://www.lincubacteur.fr/events/cafe-partage-un-objet-totem-raconte-nous-son-histoire-preciser-que-cest-au-quaiworking/
END:VEVENT
END:VCALENDAR