BEGIN:VCALENDAR
VERSION:2.0
PRODID:-//eventon.com NONSGML v1.0//EN
CALSCALE:GREGORIAN
METHOD:PUBLISH
BEGIN:VEVENT
UID:69ed05b8939aa
DTSTAMP:20260425T181936Z
DTSTART:20260610T090000Z
DTEND:20260610T103000Z
LOCATION:Le Quaiworking 1 Boulevard branly 44260 Savenay
SUMMARY:Café Partagé "Mes lectures du moment ou préférées" <span style="color: #ed8b00; font-weight: bold; font-size: 20px;">#Quaiworking</span>
DESCRIPTION:Un espace d’échange autour des livres qui vous inspirent\,  
 vous accompagnent ou vous divertissent. Chacun·e peut présenter ses lectu
 res du moment ou ses ouvrages favoris\,  et découvrir de nouvelles pistes 
 grâce aux recommandations du groupe.\nhttps://www.lincubacteur.fr/events/c
 afe-partage-mes-lectures-du-moment-ou-preferees-preciser-que-cest-au-quaiwo
 rking/
URL:https://www.lincubacteur.fr/events/cafe-partage-mes-lectures-du-moment-ou-preferees-preciser-que-cest-au-quaiworking/
END:VEVENT
END:VCALENDAR