BEGIN:VCALENDAR
VERSION:2.0
PRODID:-//eventon.com NONSGML v1.0//EN
CALSCALE:GREGORIAN
METHOD:PUBLISH
BEGIN:VEVENT
UID:69ed19bb83083
DTSTAMP:20260425T194459Z
DTSTART:20260909T090000Z
DTEND:20260909T103000Z
LOCATION:Le Quaiworking 1 Boulevard branly 44260 Savenay
SUMMARY:Café Partagé "Une compétence que j’aimerais apprendre cette année" <span style="color: #ed8b00; font-weight: bold; font-size: 20px;">#Quaiworking</span>
DESCRIPTION:Un atelier participatif où chacun·e exprime une compétence q
 u’il ou elle souhaite développer cette année. L’occasion d’identifi
 er des envies communes\,  de partager des ressources et de s’encourager m
 utuellement dans ses projets d’apprentissage\nhttps://www.lincubacteur.fr
 /events/cafe-partage-une-competence-que-jaimerais-apprendre-cette-annee-pre
 ciser-que-cest-au-quaiworking/
URL:https://www.lincubacteur.fr/events/cafe-partage-une-competence-que-jaimerais-apprendre-cette-annee-preciser-que-cest-au-quaiworking/
END:VEVENT
END:VCALENDAR