BEGIN:VCALENDAR
VERSION:2.0
PRODID:-//eventon.com NONSGML v1.0//EN
CALSCALE:GREGORIAN
METHOD:PUBLISH
BEGIN:VEVENT
UID:69ed05ca6d59f
DTSTAMP:20260425T181954Z
DTSTART:20261007T090000Z
DTEND:20261007T103000Z
LOCATION:Le Quaiworking 1 Boulevard branly 44260 Savenay
SUMMARY:Café Partagé "Si j’étais... Portrait chinois!" <span style="color: #ed8b00; font-weight: bold; font-size: 20px;">#Quaiworking</span>
DESCRIPTION:Un moment ludique pour se découvrir autrement à travers le je
 u du portrait chinois. Chaque participant·e répond à une série de « S
 i j’étais&#8230; »\,  révélant ainsi une facette de sa personnalité
 . Un exercice léger\,  créatif et propice à la cohésion.\nhttps://www.l
 incubacteur.fr/events/cafe-partage-si-jetais-portrait-chinois-preciser-que-
 cest-au-quaiworking/
URL:https://www.lincubacteur.fr/events/cafe-partage-si-jetais-portrait-chinois-preciser-que-cest-au-quaiworking/
END:VEVENT
END:VCALENDAR