BEGIN:VCALENDAR
VERSION:2.0
PRODID:-//eventon.com NONSGML v1.0//EN
CALSCALE:GREGORIAN
METHOD:PUBLISH
BEGIN:VEVENT
UID:69ed198aea492
DTSTAMP:20260425T194410Z
DTSTART:20261118T090000Z
DTEND:20261118T103000Z
LOCATION:Le Quaiworking 1 Boulevard branly 44260 Savenay
SUMMARY:Café Partagé "Les erreurs qui m’ont fait progresser" <span style="color: #ed8b00; font-weight: bold; font-size: 20px;">#Quaiworking</span>
DESCRIPTION:Un échange authentique autour des erreurs qui ont permis d’a
 vancer\,  d’apprendre ou de se transformer dans votre vie d&rsquo;entrepr
 eneur. Chacun·e est invité·e à partager une expérience marquante\,  da
 ns un cadre bienveillant\,  pour valoriser la progression et la résilience
 .\nhttps://www.lincubacteur.fr/events/cafe-partage-les-erreurs-qui-mont-fai
 t-progresser-preciser-que-cest-au-quaiworking/
URL:https://www.lincubacteur.fr/events/cafe-partage-les-erreurs-qui-mont-fait-progresser-preciser-que-cest-au-quaiworking/
END:VEVENT
END:VCALENDAR