BEGIN:VCALENDAR
VERSION:2.0
PRODID:-//eventon.com NONSGML v1.0//EN
CALSCALE:GREGORIAN
METHOD:PUBLISH
BEGIN:VEVENT
UID:69ed198eaefeb
DTSTAMP:20260425T194414Z
DTSTART:20261209T090000Z
DTEND:20261209T103000Z
LOCATION:Le Quaiworking 1 Boulevard branly 44260 Savenay
SUMMARY:CafÃ© PartagÃ© "Le petitâ€‘dÃ©jeuner de NoÃ«l" <span style="color: #ed8b00; font-weight: bold; font-size: 20px;">#Quaiworking</span>
DESCRIPTION:Un moment chaleureux pour se retrouver autour dâ€™un petitâ€‘dÃ
 ©jeuner convivial. Lâ€™occasion de cÃ©lÃ©brer la fin dâ€™annÃ©e !\nhttps://
 www.lincubacteur.fr/events/cafe-partage-le-petit-dejeuner-de-noel-preciser-
 que-cest-au-quaiworking/
URL:https://www.lincubacteur.fr/events/cafe-partage-le-petit-dejeuner-de-noel-preciser-que-cest-au-quaiworking/
END:VEVENT
END:VCALENDAR