BEGIN:VCALENDAR
VERSION:2.0
PRODID:-//eventon.com NONSGML v1.0//EN
CALSCALE:GREGORIAN
METHOD:PUBLISH
BEGIN:VEVENT
UID:69ed198db72f2
DTSTAMP:20260425T194413Z
DTSTART:20260605T083000Z
DTEND:20260605T100000Z
LOCATION:Le Quaiworking 1 Boulevard branly 44260 Savenay
SUMMARY:Caf'Eco : Qui Pilote votre cash?
DESCRIPTION:Apprenez à faire de votre trésorerie un outil de pilotage\,  
 au service du développement de votre entreprise. Cet atelier vous permettr
 a d’adopter une posture de pilotage de votre trésorerie : voir clair\,  
 anticiper et agir\,  avec des règles simples\,  directement applicables au
  quotidien.\nhttps://www.lincubacteur.fr/events/cafeco-qui-pilote-votre-cas
 h/
URL:https://www.lincubacteur.fr/events/cafeco-qui-pilote-votre-cash/
END:VEVENT
END:VCALENDAR